BEGIN:VCALENDAR
VERSION:2.0
PRODID:icalendar-ruby
CALSCALE:GREGORIAN
METHOD:PUBLISH
BEGIN:VEVENT
DTSTAMP:20260422T172041Z
UID:5-1027163@mtwashingtonmissionarybaptist.org
DTSTART:20260510T150000Z
DTEND:20260510T160000Z
CLASS:PUBLIC
CREATED:20260422T102940
DESCRIPTION:Sunday Worship
LAST-MODIFIED:20260422T102940
LOCATION:
SUMMARY:Sunday Worship
URL;VALUE=URI:https://www.mtwashingtonmissionarybaptist.org/events/sunday-w
 orship/2026-05-10
END:VEVENT
END:VCALENDAR
