BEGIN:VCALENDAR
VERSION:2.0
PRODID:icalendar-ruby
CALSCALE:GREGORIAN
METHOD:PUBLISH
BEGIN:VEVENT
DTSTAMP:20260422T190536Z
UID:5-1027732@mtwashingtonmissionarybaptist.org
DTSTART:20260517T150000Z
DTEND:20260517T160000Z
CLASS:PUBLIC
CREATED:20260422T132510
DESCRIPTION:Sunday Worship
LAST-MODIFIED:20260422T132510
LOCATION:
SUMMARY:Sunday Worship
URL;VALUE=URI:https://www.mtwashingtonmissionarybaptist.org/events/sunday-w
 orship/2026-05-17
END:VEVENT
END:VCALENDAR
