BEGIN:VCALENDAR
VERSION:2.0
PRODID:icalendar-ruby
CALSCALE:GREGORIAN
METHOD:PUBLISH
BEGIN:VEVENT
DTSTAMP:20260424T101451Z
UID:5-1032846@mtwashingtonmissionarybaptist.org
DTSTART:20260531T150000Z
DTEND:20260531T160000Z
CLASS:PUBLIC
CREATED:20260423T220746
DESCRIPTION:Sunday Worship
LAST-MODIFIED:20260423T220746
LOCATION:
SUMMARY:Sunday Worship
URL;VALUE=URI:https://www.mtwashingtonmissionarybaptist.org/events/sunday-w
 orship/2026-05-31
END:VEVENT
END:VCALENDAR
