BEGIN:VCALENDAR
VERSION:2.0
PRODID:icalendar-ruby
CALSCALE:GREGORIAN
METHOD:PUBLISH
BEGIN:VEVENT
DTSTAMP:20260424T120755Z
UID:5-1033415@mtwashingtonmissionarybaptist.org
DTSTART:20260607T150000Z
DTEND:20260607T160000Z
CLASS:PUBLIC
CREATED:20260424T073609
DESCRIPTION:Sunday Worship
LAST-MODIFIED:20260424T073609
LOCATION:
SUMMARY:Sunday Worship
URL;VALUE=URI:https://www.mtwashingtonmissionarybaptist.org/events/sunday-w
 orship/2026-06-07
END:VEVENT
END:VCALENDAR
