BEGIN:VCALENDAR
VERSION:2.0
PRODID:icalendar-ruby
CALSCALE:GREGORIAN
METHOD:PUBLISH
BEGIN:VEVENT
DTSTAMP:20260424T171557Z
UID:5-1033986@mtwashingtonmissionarybaptist.org
DTSTART:20260628T150000Z
DTEND:20260628T160000Z
CLASS:PUBLIC
CREATED:20260424T102950
DESCRIPTION:Sunday Worship
LAST-MODIFIED:20260424T102950
LOCATION:
SUMMARY:Sunday Worship
URL;VALUE=URI:https://www.mtwashingtonmissionarybaptist.org/events/sunday-w
 orship/2026-06-28
END:VEVENT
END:VCALENDAR
