BEGIN:VCALENDAR
VERSION:2.0
PRODID:icalendar-ruby
CALSCALE:GREGORIAN
METHOD:PUBLISH
BEGIN:VEVENT
DTSTAMP:20260424T205249Z
UID:5-1035124@mtwashingtonmissionarybaptist.org
DTSTART:20260712T150000Z
DTEND:20260712T160000Z
CLASS:PUBLIC
CREATED:20260424T160442
DESCRIPTION:Sunday Worship
LAST-MODIFIED:20260424T160442
LOCATION:
SUMMARY:Sunday Worship
URL;VALUE=URI:https://www.mtwashingtonmissionarybaptist.org/events/sunday-w
 orship/2026-07-12
END:VEVENT
END:VCALENDAR
