BEGIN:VCALENDAR
VERSION:2.0
PRODID:icalendar-ruby
CALSCALE:GREGORIAN
METHOD:PUBLISH
BEGIN:VEVENT
DTSTAMP:20260425T041104Z
UID:5-1036264@mtwashingtonmissionarybaptist.org
DTSTART:20260809T150000Z
DTEND:20260809T160000Z
CLASS:PUBLIC
CREATED:20260424T214111
DESCRIPTION:Sunday Worship
LAST-MODIFIED:20260424T214111
LOCATION:
SUMMARY:Sunday Worship
URL;VALUE=URI:https://www.mtwashingtonmissionarybaptist.org/events/sunday-w
 orship/2026-08-09
END:VEVENT
END:VCALENDAR
